BEGIN:VCALENDAR
VERSION:2.0
PRODID:-//UCLA Department of Anthropology - ECPv6.15.17.1//NONSGML v1.0//EN
CALSCALE:GREGORIAN
METHOD:PUBLISH
X-ORIGINAL-URL:https://anthro.ucla.edu
X-WR-CALDESC:Events for UCLA Department of Anthropology
REFRESH-INTERVAL;VALUE=DURATION:PT1H
X-Robots-Tag:noindex
X-PUBLISHED-TTL:PT1H
BEGIN:VTIMEZONE
TZID:America/Los_Angeles
BEGIN:DAYLIGHT
TZOFFSETFROM:-0800
TZOFFSETTO:-0700
TZNAME:PDT
DTSTART:20200308T100000
END:DAYLIGHT
BEGIN:STANDARD
TZOFFSETFROM:-0700
TZOFFSETTO:-0800
TZNAME:PST
DTSTART:20201101T090000
END:STANDARD
BEGIN:DAYLIGHT
TZOFFSETFROM:-0800
TZOFFSETTO:-0700
TZNAME:PDT
DTSTART:20210314T100000
END:DAYLIGHT
BEGIN:STANDARD
TZOFFSETFROM:-0700
TZOFFSETTO:-0800
TZNAME:PST
DTSTART:20211107T090000
END:STANDARD
BEGIN:DAYLIGHT
TZOFFSETFROM:-0800
TZOFFSETTO:-0700
TZNAME:PDT
DTSTART:20220313T100000
END:DAYLIGHT
BEGIN:STANDARD
TZOFFSETFROM:-0700
TZOFFSETTO:-0800
TZNAME:PST
DTSTART:20221106T090000
END:STANDARD
END:VTIMEZONE
BEGIN:VEVENT
DTSTART;TZID=America/Los_Angeles:20210125T150000
DTEND;TZID=America/Los_Angeles:20210125T165000
DTSTAMP:20260421T080026
CREATED:20210121T204346Z
LAST-MODIFIED:20210121T204930Z
UID:2055-1611586800-1611593400@anthro.ucla.edu
SUMMARY:MMAC - Roy Richard Grinker - Nobody’s Normal
DESCRIPTION:Mind\, Medicine\, and Culture (MMAC) is pleased to be hosting Roy Richard Grinker to discuss his upcoming book Nobody’s Normal. In preparation we will read his recent article in Current Anthropology “Autism\, “Stigma\,” Disability: A Shifting Historical Terrain” (2020). \nIn this presentation on his new book Nobody’s Normal (W.W. Norton; release date Jan. 26\, 2021)\, Roy R. Grinker argues that stigma is a social process that can be explained through cultural history\, a process that began the moment we defined mental illness\, that we learn from within our communities\, and that we ultimately have the power to change. Though the legacies of shame and secrecy are still with us today\, Grinker writes that we are at the cusp of ending the marginalization of the mentally ill. \nGrinker infuses his work with the personal history of his family’s four generations of involvement in psychiatry\, including his grandfather’s analysis with Sigmund Freud\, his own daughter’s experience with autism\, and culminating in his own research on neurodiversity. \n**(Please follow link to RSVP: https://forms.gle/vD8ewv98SwmCbJF7A)** \n***If you are already on the permanent Zoom RSVP list please do not RSVP again.
URL:https://anthro.ucla.edu/event/mmac-roy-richard-grinker-nobodys-normal/
ORGANIZER;CN="Mind%2C Medicine%2C and Culture":MAILTO:nalamattina@g.ucla.edu
END:VEVENT
END:VCALENDAR